BEGIN:VCALENDAR
VERSION:2.0
PRODID:-//wp-events-plugin.com//7.2.3.1//EN
TZID:Europe/Paris
X-WR-TIMEZONE:Europe/Paris
BEGIN:VEVENT
UID:161@ville-petitbourg.fr
DTSTART;TZID=America/Guadeloupe:20250807T180000
DTEND;TZID=America/Guadeloupe:20250807T203000
DTSTAMP:20250806T143510Z
URL:https://www.ville-petitbourg.fr/events/conseil-municipal-du-4-aout-202
 5/
SUMMARY:Conseil Municipal du 7 août 2025
DESCRIPTION:Jeudi 7 août 2025 - 18h\nLe Maire de la Ville de Petit-Bourg\,
  Monsieur David NEBOR\, informe ses administrés de la tenue de la prochai
 ne réunion du Conseil Municipal:  -  Le jeudi 7 août 2025\,-  Dès 1
 8h\,-  A la salle des délibérations de la Mairie. Consultez l'ordre du
  jour :\n\nCliquez ici\n\nINFOS PRATIQUES\n\nTous les événements\n\n\nMa
 irie\n\n : 0590 95 38 00\n\n: contact@ville-petitbourg.fr\n\n
ATTACH;FMTTYPE=image/jpeg:https://www.ville-petitbourg.fr/wp-content/uploa
 ds/2025/08/Image-mise-en-avant-site-web-4.png
END:VEVENT
BEGIN:VTIMEZONE
TZID:America/Guadeloupe
X-LIC-LOCATION:America/Guadeloupe
BEGIN:STANDARD
DTSTART:20240807T180000
TZOFFSETFROM:-0400
TZOFFSETTO:-0400
TZNAME:AST
END:STANDARD
END:VTIMEZONE
END:VCALENDAR