BEGIN:VCALENDAR
VERSION:2.0
PRODID:-//wp-events-plugin.com//7.2.3.1//EN
TZID:Europe/Paris
X-WR-TIMEZONE:Europe/Paris
BEGIN:VEVENT
UID:42@ville-petitbourg.fr
DTSTART;TZID=America/Guadeloupe:20240429T180000
DTEND;TZID=America/Guadeloupe:20240429T203000
DTSTAMP:20240425T145507Z
URL:https://www.ville-petitbourg.fr/events/conseil-municipal-du-29-avril-2
 024/
SUMMARY:Conseil Municipal
DESCRIPTION:Lundi 29 avril 2024 - 18h		\n		Le Maire de la Ville de Petit-Bo
 urg\, Monsieur David NEBOR\, informe ses administrés de la tenue de la pr
 ochaine réunion du Conseil Municipal:  -  Le lundi 29 avril 2024\,-  
 Dès 18h\,-  A la salle des délibérations de la Mairie. Consultez l'or
 dre du jour :  		\n			\n						Cliquez ici\n					\n																						
 								\n			INFOS PRATIQUES		\n			\n						Tous les événements\n					\n	
 	contact.ville@ville-petitbourg.frMairieTél : 0590 95 38 00		\n			
ATTACH;FMTTYPE=image/jpeg:https://www.ville-petitbourg.fr/wp-content/uploa
 ds/2024/04/Image-mise-en-avant-site-web-1.png
CATEGORIES:Citoyenneté
END:VEVENT
BEGIN:VTIMEZONE
TZID:America/Guadeloupe
X-LIC-LOCATION:America/Guadeloupe
BEGIN:STANDARD
DTSTART:20230430T180000
TZOFFSETFROM:-0400
TZOFFSETTO:-0400
TZNAME:AST
END:STANDARD
END:VTIMEZONE
END:VCALENDAR