BEGIN:VCALENDAR
VERSION:2.0
PRODID:-//wp-events-plugin.com//7.2.3.1//EN
TZID:Europe/Paris
X-WR-TIMEZONE:Europe/Paris
BEGIN:VEVENT
UID:164@ville-petitbourg.fr
DTSTART;TZID=America/Guadeloupe:20250828T093000
DTEND;TZID=America/Guadeloupe:20250828T120000
DTSTAMP:20250825T080900Z
URL:https://www.ville-petitbourg.fr/events/conseil-municipal-du-28-aout-20
 25/
SUMMARY:Conseil Municipal du 28 août 2025
DESCRIPTION:Jeudi 28 août 2025 - 9h30\nLe Maire de la Ville de Petit-Bourg
 \, Monsieur David NEBOR\, informe ses administrés de la tenue de la proch
 aine réunion du Conseil Municipal:  -  Le jeudi 28 août 2025\,-  Dè
 s 9h30\,-  A la salle des délibérations de la Mairie. Consultez l'ordr
 e du jour :\n\nCliquez ici\n\nINFOS PRATIQUES\n\nTous les événements\n\n
 \nMairie\n\n : 0590 95 38 00\n\n: contact@ville-petitbourg.fr\n\n
ATTACH;FMTTYPE=image/jpeg:https://www.ville-petitbourg.fr/wp-content/uploa
 ds/2025/08/Image-mise-en-avant-site-web-4-1.png
CATEGORIES:Citoyenneté
END:VEVENT
BEGIN:VTIMEZONE
TZID:America/Guadeloupe
X-LIC-LOCATION:America/Guadeloupe
BEGIN:STANDARD
DTSTART:20240828T093000
TZOFFSETFROM:-0400
TZOFFSETTO:-0400
TZNAME:AST
END:STANDARD
END:VTIMEZONE
END:VCALENDAR