BEGIN:VCALENDAR
VERSION:2.0
PRODID:-//wp-events-plugin.com//7.2.3.1//EN
TZID:Europe/Paris
X-WR-TIMEZONE:Europe/Paris
BEGIN:VEVENT
UID:107@ville-petitbourg.fr
DTSTART;TZID=America/Guadeloupe:20241227T180000
DTEND;TZID=America/Guadeloupe:20241227T210000
DTSTAMP:20241223T170556Z
URL:https://www.ville-petitbourg.fr/events/conseil-municipal-du-27-decembr
 e-2024/
SUMMARY:Conseil Municipal du 27 décembre 2024
DESCRIPTION:vendredi 27 décembre 2024 - 18h		\n		Le Maire de la Ville de P
 etit-Bourg\, Monsieur David NEBOR\, informe ses administrés de la tenue d
 e la prochaine réunion du Conseil Municipal:  -  Le vendredi 27 décem
 bre 2024\,-  Dès 18h\,-  A la salle des délibérations de la Mairie. 
 Ordre du jour : 1. Adoption PV du 16 Décembre 2024 2. Désignation d’
 un adjoint pour la signature des actes en la forme administrative 3. Pris
 e en charge des frais de déplacement professionnels 4. Titres restaurant
  – Actualisation des conditions d’attribution 5. Adhésion au Comité
  National d’action Sociale (CNAS) et désignation des délégués Versi
 on numérisée: 		\n			\n									Cliquez ici\n					\n																			
 							\n			INFOS PRATIQUES		\n			\n									Tous les événements\n					\
 n		contact.ville@ville-petitbourg.frMairieTél : 0590 95 38 00		\n			
ATTACH;FMTTYPE=image/jpeg:https://www.ville-petitbourg.fr/wp-content/uploa
 ds/2024/12/Image-mise-en-avant-site-web.png
CATEGORIES:Citoyenneté
END:VEVENT
BEGIN:VTIMEZONE
TZID:America/Guadeloupe
X-LIC-LOCATION:America/Guadeloupe
BEGIN:STANDARD
DTSTART:20231228T180000
TZOFFSETFROM:-0400
TZOFFSETTO:-0400
TZNAME:AST
END:STANDARD
END:VTIMEZONE
END:VCALENDAR