BEGIN:VCALENDAR
VERSION:2.0
PRODID:-//wp-events-plugin.com//7.2.3.1//EN
TZID:Europe/Paris
X-WR-TIMEZONE:Europe/Paris
BEGIN:VEVENT
UID:149@ville-petitbourg.fr
DTSTART;TZID=America/Guadeloupe:20250424T180000
DTEND;TZID=America/Guadeloupe:20250424T210000
DTSTAMP:20250422T155651Z
URL:https://www.ville-petitbourg.fr/events/conseil-municipal-du-24-avril-2
 025/
SUMMARY:Conseil Municipal du 24 avril 2025
DESCRIPTION:Jeudi 24 avril 2025 - 18h\nLe Maire de la Ville de Petit-Bourg\
 , Monsieur David NEBOR\, informe ses administrés de la tenue de la procha
 ine réunion du Conseil Municipal:  -  Le jeudi 24 avril 2025\,-  Dès
  18h\,-  A la salle des délibérations de la Mairie. Consultez l'ordre 
 du jour :  1. Adoption des PV intégrales du 31 janvier\,21 février et 
 21 mars 2025\n2. Modification pour erreur matérielle de la délibération
  n°2024/04/04/012 portant adhésion au\nComité National d’Action socia
 le (CNAS) et désignation des délégués\n3. Approbation du plan de finan
 cement de la Maison France Services bourg – subvention de\nfonctionnemen
 t Année 2025\n4. Approbation du plan de financement de la Maison France S
 ervices Prise d’eau – Subvention de\nfonctionnement 2025\n5. Attributi
 on d’une subvention exceptionnelle a l’association Tibou Boxing Club p
 our la\nparticipation de Romuald GOROL et Soan GUIBERT AU Championnat de F
 rance Handiboxe\n6. Attribution d’une subvention à l’association TANB
 OU RANDO pour la mise en oeuvre du projet\n« RANDO CHALLENGE » en parten
 ariat avec l’école Hyacinthe GERIAC\n7. Demande de subvention pour l’
 association « Foulées du Rond-Point » pour l’organisation de la\n7èm
 e édition des 5km FVRP SPORT ET HANDICAP le samedi 10 mai 2025\n8. Attrib
 ution d’une subvention exceptionnelle à l’association Petit-Bourg Tri
 athlon pour\nl’organisation de la 2ème édition des championnats de Gua
 deloupe de Cross Duathlon le\ndimanche 15 juin 2025\n9. Adhésion au CRAJE
 P (Comité Régional des Associations de Jeunesse et d’Éducation Popula
 ire)\nLe\n\nCliquez ici\n\nINFOS PRATIQUES\n\nTous les événements\n\n\nM
 airie\n\n : 0590 95 38 00\n\n: contact@ville-petitbourg.fr\n\n
ATTACH;FMTTYPE=image/jpeg:https://www.ville-petitbourg.fr/wp-content/uploa
 ds/2025/04/Image-mise-en-avant-site-web.png
CATEGORIES:Citoyenneté
END:VEVENT
BEGIN:VTIMEZONE
TZID:America/Guadeloupe
X-LIC-LOCATION:America/Guadeloupe
BEGIN:STANDARD
DTSTART:20240424T180000
TZOFFSETFROM:-0400
TZOFFSETTO:-0400
TZNAME:AST
END:STANDARD
END:VTIMEZONE
END:VCALENDAR