BEGIN:VCALENDAR
VERSION:2.0
PRODID:-//wp-events-plugin.com//7.2.3.1//EN
TZID:Europe/Paris
X-WR-TIMEZONE:Europe/Paris
BEGIN:VEVENT
UID:174@ville-petitbourg.fr
DTSTART;TZID=America/Guadeloupe:20251023T180000
DTEND;TZID=America/Guadeloupe:20251023T210000
DTSTAMP:20251020T130610Z
URL:https://www.ville-petitbourg.fr/events/conseil-municipal-du-23-octobre
 /
SUMMARY:Conseil Municipal du 23 octobre
DESCRIPTION:Jeudi 23 octobre 2025 - 18h\nLe Maire de la Ville de Petit-Bour
 g\, Monsieur David NEBOR\, informe ses administrés de la tenue de la proc
 haine réunion du Conseil Municipal:  -  Le jeudi 23 octobre 2024\,-  
 Dès 18h\,-  A la salle des délibérations de la Mairie. Consultez l'or
 dre du jour :\n\nCliquez ici\n\nINFOS PRATIQUES\n\nTous les événements\n
 \n\nMairie\n\n : 0590 95 38 00\n\n: contact@ville-petitbourg.fr\n\n
ATTACH;FMTTYPE=image/jpeg:https://www.ville-petitbourg.fr/wp-content/uploa
 ds/2025/09/Image-intro-par-defaut.jpg
CATEGORIES:Citoyenneté
END:VEVENT
BEGIN:VTIMEZONE
TZID:America/Guadeloupe
X-LIC-LOCATION:America/Guadeloupe
BEGIN:STANDARD
DTSTART:20241023T180000
TZOFFSETFROM:-0400
TZOFFSETTO:-0400
TZNAME:AST
END:STANDARD
END:VTIMEZONE
END:VCALENDAR