BEGIN:VCALENDAR
VERSION:2.0
PRODID:-//wp-events-plugin.com//7.2.3.1//EN
TZID:Europe/Paris
X-WR-TIMEZONE:Europe/Paris
BEGIN:VEVENT
UID:192@ville-petitbourg.fr
DTSTART;TZID=America/Guadeloupe:20260220T180000
DTEND;TZID=America/Guadeloupe:20260220T200000
DTSTAMP:20260219T141056Z
URL:https://www.ville-petitbourg.fr/events/conseil-municipal-du-20-fevrier
 -2026/
SUMMARY:Conseil Municipal du 20 février 2026
DESCRIPTION:Vendredi 20 février 2026 - 8h30\nLe Maire de la Ville de Petit
 -Bourg\, Monsieur David NEBOR\, informe ses administrés de la tenue de la
  prochaine réunion du Conseil Municipal:  -  Le vendredi 20 février 2
 026\,-  Dès 8h30\,-  A la salle des délibérations de la Mairie. Cons
 ultez l'ordre du jour :\n\nCliquez ici\n\nINFOS PRATIQUES\n\nTous les év
 énements\n\n\nMairie\n\n : 0590 95 38 00\n\n: contact@ville-petitbourg.f
 r\n\n
ATTACH;FMTTYPE=image/jpeg:https://www.ville-petitbourg.fr/wp-content/uploa
 ds/2026/02/Image-mise-en-avant-site-web-application-16-1.png
CATEGORIES:Citoyenneté
END:VEVENT
BEGIN:VTIMEZONE
TZID:America/Guadeloupe
X-LIC-LOCATION:America/Guadeloupe
BEGIN:STANDARD
DTSTART:20250220T180000
TZOFFSETFROM:-0400
TZOFFSETTO:-0400
TZNAME:AST
END:STANDARD
END:VTIMEZONE
END:VCALENDAR