BEGIN:VCALENDAR
VERSION:2.0
PRODID:-//wp-events-plugin.com//7.2.3.1//EN
TZID:Europe/Paris
X-WR-TIMEZONE:Europe/Paris
BEGIN:VEVENT
UID:180@ville-petitbourg.fr
DTSTART;TZID=America/Guadeloupe:20251212T090000
DTEND;TZID=America/Guadeloupe:20251212T120000
DTSTAMP:20251208T141417Z
URL:https://www.ville-petitbourg.fr/events/conseil-municipal-du-12-decembr
 e-2025/
SUMMARY:Conseil Municipal du 12 décembre 2025
DESCRIPTION:Vendredi 12 décembre 2025 - 9h				\n		Le Maire de la Ville de 
 Petit-Bourg\, Monsieur David NEBOR\, informe les administrés de la tenue 
 de la prochaine réunion du Conseil Municipal:  -  Le vendredi 12 déce
 mbre 2025\,-  Dès 9h\,-  A la salle des délibérations de la Mairie. 
 Consultez l'ordre du jour :  		\n					\n									Cliquez ici\n					\n			
 																											\n					INFOS PRATIQUES				\n					\n									Tou
 s les événements\n					\n		MairieTél : 0590 95 38 00Mail : service.cour
 rier@		\n			
ATTACH;FMTTYPE=image/jpeg:https://www.ville-petitbourg.fr/wp-content/uploa
 ds/2025/12/Image-mise-en-avant-site-web-application-5.png
CATEGORIES:Citoyenneté
END:VEVENT
BEGIN:VTIMEZONE
TZID:America/Guadeloupe
X-LIC-LOCATION:America/Guadeloupe
BEGIN:STANDARD
DTSTART:20241212T090000
TZOFFSETFROM:-0400
TZOFFSETTO:-0400
TZNAME:AST
END:STANDARD
END:VTIMEZONE
END:VCALENDAR