BEGIN:VCALENDAR
VERSION:2.0
PRODID:-//wp-events-plugin.com//7.2.3.1//EN
TZID:Europe/Paris
X-WR-TIMEZONE:Europe/Paris
BEGIN:VEVENT
UID:171@ville-petitbourg.fr
DTSTART;TZID=America/Guadeloupe:20251002T180000
DTEND;TZID=America/Guadeloupe:20251002T210000
DTSTAMP:20250929T170623Z
URL:https://www.ville-petitbourg.fr/events/conseil-municipal-du-02-octobre
 /
SUMMARY:Conseil Municipal du 02 Octobre
DESCRIPTION:Jeudi 02 octobre - 18h				\n		Le Maire de la Ville de Petit-Bou
 rg\, Monsieur David NEBOR\, informe ses administrés de la tenue de la pro
 chaine réunion du Conseil Municipal:  -  Le jeudi 02 octobre 2025\,- 
  Dès 18h\,-  A la salle des délibérations de la Mairie. Consultez l'o
 rdre du jour :  		\n					\n									Cliquez ici\n					\n																
 														\n					INFOS PRATIQUES				\n					\n									Tous les événe
 ments\n					\n		contact.ville@ville-petitbourg.frMairieTél : 0590 95 38 0
 0		\n			
ATTACH;FMTTYPE=image/jpeg:https://www.ville-petitbourg.fr/wp-content/uploa
 ds/2025/09/Image-mise-en-avant-site-web-application.png
CATEGORIES:Citoyenneté
END:VEVENT
BEGIN:VTIMEZONE
TZID:America/Guadeloupe
X-LIC-LOCATION:America/Guadeloupe
BEGIN:STANDARD
DTSTART:20241002T180000
TZOFFSETFROM:-0400
TZOFFSETTO:-0400
TZNAME:AST
END:STANDARD
END:VTIMEZONE
END:VCALENDAR