BEGIN:VCALENDAR
VERSION:2.0
PRODID:-//wp-events-plugin.com//7.2.3.1//EN
TZID:Europe/Paris
X-WR-TIMEZONE:Europe/Paris
BEGIN:VEVENT
UID:119@ville-petitbourg.fr
DTSTART;TZID=America/Guadeloupe:20250131T180000
DTEND;TZID=America/Guadeloupe:20250131T193000
DTSTAMP:20250130T130505Z
URL:https://www.ville-petitbourg.fr/events/conseil-municipal-9/
SUMMARY:Conseil Municipal
DESCRIPTION:Vendredi 31 janvier 2025 - 18h				\n		Le Maire de la Ville de P
 etit-Bourg\, Monsieur David NEBOR\, informe ses administrés de la tenue d
 e la prochaine réunion du Conseil Municipal:  -  Le vendredi 31 janvie
 r 2025\,-  Dès 18h\,-  A la salle des délibérations de la Mairie. Co
 nsultez l'ordre du jour :  		\n					\n									Cliquez ici\n					\n					
 INFOS PRATIQUES				\n					\n									Tous les événements\n					\n		conta
 ct.ville@ville-petitbourg.frMairieTél : 0590 95 38 00		\n			
ATTACH;FMTTYPE=image/jpeg:https://www.ville-petitbourg.fr/wp-content/uploa
 ds/2025/01/Image-mise-en-avant-site-web-13-1.png
END:VEVENT
BEGIN:VTIMEZONE
TZID:America/Guadeloupe
X-LIC-LOCATION:America/Guadeloupe
BEGIN:STANDARD
DTSTART:20240201T180000
TZOFFSETFROM:-0400
TZOFFSETTO:-0400
TZNAME:AST
END:STANDARD
END:VTIMEZONE
END:VCALENDAR