BEGIN:VCALENDAR
VERSION:2.0
PRODID:-//wp-events-plugin.com//7.2.3.1//EN
TZID:Europe/Paris
X-WR-TIMEZONE:Europe/Paris
BEGIN:VEVENT
UID:115@ville-petitbourg.fr
DTSTART;TZID=America/Guadeloupe:20250121T180000
DTEND;TZID=America/Guadeloupe:20250121T200000
DTSTAMP:20250116T131723Z
URL:https://www.ville-petitbourg.fr/events/conseil-municipal-8/
SUMMARY:Conseil Municipal
DESCRIPTION:Mardi 21 janvier 2025 - 18h				\n		Le Maire de la Ville de Peti
 t-Bourg\, Monsieur David NEBOR\, informe ses administrés de la tenue de l
 a prochaine réunion du Conseil Municipal:  -  Le mardi 21 janvier 2025
 \,-  Dès 18h\,-  A la salle des délibérations de la Mairie. Consulte
 z l'ordre du jour :  		\n					\n									Cliquez ici\n					\n											
 																			\n					INFOS PRATIQUES				\n					\n									Tous les é
 vénements\n					\n		contact.ville@ville-petitbourg.frMairieTél : 0590 95
  38 00		\n			
ATTACH;FMTTYPE=image/jpeg:https://www.ville-petitbourg.fr/wp-content/uploa
 ds/2025/01/Image-mise-en-avant-site-web-17.png
END:VEVENT
BEGIN:VTIMEZONE
TZID:America/Guadeloupe
X-LIC-LOCATION:America/Guadeloupe
BEGIN:STANDARD
DTSTART:20240122T180000
TZOFFSETFROM:-0400
TZOFFSETTO:-0400
TZNAME:AST
END:STANDARD
END:VTIMEZONE
END:VCALENDAR