BEGIN:VCALENDAR
VERSION:2.0
PRODID:-//wp-events-plugin.com//7.2.3.1//EN
TZID:Europe/Paris
X-WR-TIMEZONE:Europe/Paris
BEGIN:VEVENT
UID:105@ville-petitbourg.fr
DTSTART;TZID=America/Guadeloupe:20241216T180000
DTEND;TZID=America/Guadeloupe:20241216T203000
DTSTAMP:20241211T150437Z
URL:https://www.ville-petitbourg.fr/events/conseil-municipal-7/
SUMMARY:Conseil Municipal
DESCRIPTION:Lundi 16 décembre 2024		\n		Le Maire de la Ville de Petit-Bour
 g\, Monsieur David NEBOR\, informe ses administrés de la tenue de la proc
 haine réunion du Conseil Municipal:  -  Le lundi 16 décembre 2024\,-
   Dès 18h\,-  A la salle des délibérations de la Mairie.  Consultez
  l'ordre du jour : 1. Adoption PV du 26 novembre 2024 2. Régularisation
  de création d'emplois non permanents pour accroissement temporaire d'act
 ivité à effets rétroactif  3. Autorisation de recruter des agents con
 tractuels pour remplacer temporairement des agents indisponibles 4. Créd
 its complémentaires affectés à la rémunération des collaborateurs  d
 e cabinet 5. Régularisation de création d'emploi permanent à temps com
 plet 6. Renouvellement du dispositif relatif à l'accueil de jeunes en se
 rvice civique 7. Création d'un emploi permanent à temps complet référ
 ent famille-parentalité 8. Création d'un emploi à temps complet de coo
 rdonnateur de la maison de la parentalité 9. Adhésion de la Ville l'ass
 ociation KARIB HORIZON chargée du réseau régional multi-acteurs (RRMA) 
 et du développement de la coopération et la solidarité internationale d
 ans la Caraïbe 10. Avis du conseil municipal sur la demande de dérogati
 on au repos dominical pour les commerces de détail du territoire de Petit
 -Bourg au titre de l'année 2025 11. Mise en place du dispositif dénomm
 é " PAPI ET MAMIE TRAFIC " visant la sécurisation des écoles maternelle
 s et élémentaires de la Ville 12. Validation du Compte rendu financier 
 2022-2023 relatif au SUIVI OPÉRATIONNEL DU RELOGEMENT DES FAMILLES MENAC
 ÉES PAR LE RISQUE D'EFFONDREMENT DE LA FALAISE LITTORALE DES SECTEURS DE 
 BOVIS ET BEL AIR 13. Décision Modificative n°2 14. Contractualisation 
 avec l'éco-organisme ALCOM dans le cadre de la gestion des déchets issus
  des produits du tabac 		\n			INFOS PRATIQUES		\n			\n									Tous les 
 événements\n					\n		contact.ville@ville-petitbourg.frMairieTél : 0590 
 95 38 00		\n			
ATTACH;FMTTYPE=image/jpeg:https://www.ville-petitbourg.fr/wp-content/uploa
 ds/2024/12/Image-mise-en-avant-site-web-10-1.png
END:VEVENT
BEGIN:VTIMEZONE
TZID:America/Guadeloupe
X-LIC-LOCATION:America/Guadeloupe
BEGIN:STANDARD
DTSTART:20231217T180000
TZOFFSETFROM:-0400
TZOFFSETTO:-0400
TZNAME:AST
END:STANDARD
END:VTIMEZONE
END:VCALENDAR