BEGIN:VCALENDAR
VERSION:2.0
PRODID:-//wp-events-plugin.com//7.2.3.1//EN
TZID:Europe/Paris
X-WR-TIMEZONE:Europe/Paris
BEGIN:VEVENT
UID:97@ville-petitbourg.fr
DTSTART;TZID=America/Guadeloupe:20241114T180000
DTEND;TZID=America/Guadeloupe:20241114T210000
DTSTAMP:20241112T164010Z
URL:https://www.ville-petitbourg.fr/events/conseil-municipal-5/
SUMMARY:Conseil Municipal
DESCRIPTION:Jeudi 14 novembre 2024 - 18h		\n		Le Maire de la Ville de Petit
 -Bourg\, Monsieur David NEBOR\, informe ses administrés de la tenue de la
  prochaine réunion du Conseil Municipal:  -  Le jeudi 14 novembre 2024
 \,-  Dès 18h\,-  A la salle des délibérations de la Mairie. Consulte
 z l'ordre du jour : 1. Adoption PV du 17 octobre  2. Création d'un emp
 loi permanent à temps complet 3. Régularisation de création d'emplois 
 non permanents pour accroissement temporaire d'activité à effet rétroac
 tif 4. Attribution du bénéfice de la protection fonctionnelle et juridi
 que à un agent de la Police Municipal 5. Vote des crédits affectés à 
 la rémunération des collaborateurs de cabinet 6. Attribution d'une aide
  financière pour monsieur Yohann ZEDOUARD-LENCREROT dans le cadre d'un st
 age de TAEKWONDO 7. Remboursement d'avance  8. Délibération autorisan
 t le Maire à effectuer les études préliminaires sur les parcelles dédi
 ées à l'extension du cimetière de Blonde Ordre du jour numérisé :		\
 n			\n									Cliquez ici\n					\n																										\n			INFOS PR
 ATIQUES		\n			\n									Tous les événements\n					\n		contact.ville@vil
 le-petitbourg.frMairieTél : 0590 95 38 00		\n			
ATTACH;FMTTYPE=image/jpeg:https://www.ville-petitbourg.fr/wp-content/uploa
 ds/2024/11/Image-mise-en-avant-site-web-1.jpg
END:VEVENT
BEGIN:VTIMEZONE
TZID:America/Guadeloupe
X-LIC-LOCATION:America/Guadeloupe
BEGIN:STANDARD
DTSTART:20231115T180000
TZOFFSETFROM:-0400
TZOFFSETTO:-0400
TZNAME:AST
END:STANDARD
END:VTIMEZONE
END:VCALENDAR