BEGIN:VCALENDAR
VERSION:2.0
PRODID:-//wp-events-plugin.com//7.2.3.1//EN
TZID:Europe/Paris
X-WR-TIMEZONE:Europe/Paris
BEGIN:VEVENT
UID:90@ville-petitbourg.fr
DTSTART;TZID=America/Guadeloupe:20241017T180000
DTEND;TZID=America/Guadeloupe:20241017T210000
DTSTAMP:20241015T163917Z
URL:https://www.ville-petitbourg.fr/events/conseil-municipal-4/
SUMMARY:Conseil Municipal
DESCRIPTION:Jeudi 17 octobre 2024 - 18h		\n		Le Maire de la Ville de Petit-
 Bourg\, Monsieur David NEBOR\, informe ses administrés de la tenue de la 
 prochaine réunion du Conseil Municipal:  -  Le jeudi 17 octobre 2024\,
 -  Dès 18h\,-  A la salle des délibérations de la Mairie. À l'ordre
  du jour : 1.    Adoption PV du 09 Aout 2024 2.    Demande de subv
 ention pour la participation de Noémie RAABON au concours européen de da
 nse à Rome 3.    2ème édition SALON DU SPORT les 21 et 22 septembre
  2024 COMPLEXE SPORTIF Gaël MON FILS 4.    Attribution d'une subventi
 on dans le cadre de l'organisation de la 8ème édition du Tournoi Interna
 tional d'Escrime les 26 et 27 octobre 2024 PALAIS DES SPORT Laura FLESSEL
  5.    Attribution d'une subvention dans le cadre de l'organisation d'
 une compétition Internationale de TAEKWONDO les 15 ET 17 novembre 2024 PA
 LAIS DES SPORTS Laura FLESSEL 6.    Attribution d'une subvention pour 
 l'organisation de la 10ème édition du Tournoi International de Tennis au
  Féminin de la ville de Petit-bourg qui se déroulera du 19 au 26 janvier
  2025 au COMPLEXE Gaël MONFILS 7.    Attribution des subventions de f
 onctionnement aux associations sportives au titre de l'exercice 2024 8. 
    Attribution d'aide exceptionnelle à Monsieur Cédric CALVADOS 9. 
    Attribution et autorisation de signature du protocole avec l'opérate
 ur économique ALBIOMA en vue de la signature des conventions d1 Autorisat
 ion d'Occupation Temporaire du domaine public pour l'exploitation en photo
 voltaïque des toitures du patrimoine bâti communal 10.    Dénominat
 ion de la piste d'athlétisme du stade de Petit-Bourg au nom d'Aude SIBOU
  Ordre du jour numérisé :		\n			\n									Cliquez ici\n					\n								
 																		\n			INFOS PRATIQUES		\n			\n									Tous les événeme
 nts\n					\n		contact.ville@ville-petitbourg.frMairieTél : 0590 95 38 00	
 	\n			
ATTACH;FMTTYPE=image/jpeg:https://www.ville-petitbourg.fr/wp-content/uploa
 ds/2025/09/Image-intro-par-defaut.jpg
CATEGORIES:Citoyenneté
END:VEVENT
BEGIN:VTIMEZONE
TZID:America/Guadeloupe
X-LIC-LOCATION:America/Guadeloupe
BEGIN:STANDARD
DTSTART:20231018T180000
TZOFFSETFROM:-0400
TZOFFSETTO:-0400
TZNAME:AST
END:STANDARD
END:VTIMEZONE
END:VCALENDAR