BEGIN:VCALENDAR
VERSION:2.0
PRODID:-//wp-events-plugin.com//7.2.3.1//EN
TZID:Europe/Paris
X-WR-TIMEZONE:Europe/Paris
BEGIN:VEVENT
UID:65@ville-petitbourg.fr
DTSTART;TZID=America/Guadeloupe:20240718T180000
DTEND;TZID=America/Guadeloupe:20240718T213000
DTSTAMP:20240715T164321Z
URL:https://www.ville-petitbourg.fr/events/conseil-municipal-3/
SUMMARY:Conseil Municipal
DESCRIPTION:jeudi 18 juillet 2024 - 18h		\n		Le Maire de la Ville de Petit-
 Bourg\, Monsieur David NEBOR\, informe ses administrés de la tenue de la 
 prochaine réunion du Conseil Municipal:  -  Le jeudi 18 juillet 2024\,
 -  Dès 18h\,-  A la salle des délibérations de la Mairie. Consultez 
 l'ordre du jour : 1. Adoption PV du 20 juin et 1er juillet 20242. Approba
 tion de la levée de la prescription quadriennale relative au paiement des
  factures dues à la S.A.R.L NEBOR INDIVISION dans le marché de transport
  divers par cars pour les écoles de la ville de Petit-Bourg.3. Renouvelle
 ment de la collaboration entre la ville de Petit-Bourg et la Poste.4. Part
 enariat entre la ville et l'association "PETIT-BOURG TRIATHLON" dans le ca
 dre de la 1èreédition du championnat de Guadeloupe de CROSS TRIATHLON "S
 ".5. Plan de financement de l’opération intitulée “Acquisition de ma
 tériels divers concourant à la lutte anti-sargasses".6. Approbation du p
 lan de financement relatif à la réalisation de la première phase de dé
 ploiement d’un Quartier Culturel Artistique  		\n			\n									Cliquez
  ici\n					\n			INFOS PRATIQUES		\n			\n									Tous les événements\n		
 			\n		contact.ville@ville-petitbourg.frMairieTél : 0590 95 38 00		\n			
ATTACH;FMTTYPE=image/jpeg:https://www.ville-petitbourg.fr/wp-content/uploa
 ds/2024/07/Visuel-Conseil-Municipal1.png
END:VEVENT
BEGIN:VTIMEZONE
TZID:America/Guadeloupe
X-LIC-LOCATION:America/Guadeloupe
BEGIN:STANDARD
DTSTART:20230719T180000
TZOFFSETFROM:-0400
TZOFFSETTO:-0400
TZNAME:AST
END:STANDARD
END:VTIMEZONE
END:VCALENDAR