BEGIN:VCALENDAR
VERSION:2.0
PRODID:-//wp-events-plugin.com//7.2.3.1//EN
TZID:Europe/Paris
X-WR-TIMEZONE:Europe/Paris
BEGIN:VEVENT
UID:57@ville-petitbourg.fr
DTSTART;TZID=America/Guadeloupe:20240620T180000
DTEND;TZID=America/Guadeloupe:20240620T213000
DTSTAMP:20240617T154730Z
URL:https://www.ville-petitbourg.fr/events/conseil-municipal-20-mai-2024/
SUMMARY:Conseil municipal 20 juin 2024
DESCRIPTION:jeudi 20 juin 2024 - 18h		\nLe Maire de la Ville de Petit-Bourg
 \, Monsieur David NEBOR\, informe ses administrés de la tenue de la proch
 aine réunion du Conseil Municipal:\n&nbsp\;\n&nbsp\;\n-&nbsp\; Le jeudi 2
 0 juin 2024\,\n-&nbsp\; Dès 18h\,\n-&nbsp\; A la salle des délibération
 s de la Mairie.\n&nbsp\;\nConsultez l'ordre du jour :\n&nbsp\;\n1. Adoptio
 n PV du 23 mai 2024\n&nbsp\;\n2. Attribution d’une aide exceptionnelle 
 à deux jeunes judokas\n&nbsp\;\n3. La taxe locale sur la publicité exté
 rieure sur le territoire communal : Tarif 2025\n4. Convention de la régul
 arisation foncière - Modalité d’assistance de TERRES CARAIBES pour lar
 égularisation foncière des parcelles communales occupées\n\n5. Créatio
 n d’emplois non permanents pour accroissement saisonnier d’activité d
 ans le cadre durenouvellement des accueils de loisirs 2024.\n\n6. Régular
 isation de l'avancement de grade pour l'année 2023- fixation des ratios p
 romus-promouvables.\n\n7. Création et composition de la commission commun
 ale facultative Ressources Humaines\n\n8. Création d’emplois permanents
  à temps complet\n\n9. Convention de groupement – lutte contre les déc
 hets abandonnés\n&nbsp\;\n&nbsp\;		\n			\n									Cliquez ici\n					\n		
 	INFOS PRATIQUES		\n			\n									Tous les événements\n					\n		contact.
 ville@ville-petitbourg.frMairieTél : 0590 95 38 00		\n			
ATTACH;FMTTYPE=image/jpeg:https://www.ville-petitbourg.fr/wp-content/uploa
 ds/2024/06/Image-mise-en-avant-site-web.png
CATEGORIES:Citoyenneté
END:VEVENT
BEGIN:VTIMEZONE
TZID:America/Guadeloupe
X-LIC-LOCATION:America/Guadeloupe
BEGIN:STANDARD
DTSTART:20230621T180000
TZOFFSETFROM:-0400
TZOFFSETTO:-0400
TZNAME:AST
END:STANDARD
END:VTIMEZONE
END:VCALENDAR