BEGIN:VCALENDAR
VERSION:2.0
PRODID:-//wp-events-plugin.com//7.2.3.1//EN
TZID:Europe/Paris
X-WR-TIMEZONE:Europe/Paris
BEGIN:VEVENT
UID:58@ville-petitbourg.fr
DTSTART;TZID=America/Guadeloupe:20240701T180000
DTEND;TZID=America/Guadeloupe:20240701T200000
DTSTAMP:20240701T161841Z
URL:https://www.ville-petitbourg.fr/events/conseil-municipal-2/
SUMMARY:Conseil municipal
DESCRIPTION:Lundi 1er juillet 2024 - 18h 		\n		Le Maire de la Ville de Peti
 t-Bourg\, Monsieur David NEBOR\, informe ses administrés de la tenue de l
 a prochaine réunion du Conseil Municipal:  -  Le lundi 1er juillet 202
 4\,-  Dès 18h\,-  A la salle des délibérations de la Mairie. Consult
 ez l'ordre du jour : 1. Caractère d'urgence de la convocation du Conseil
  municipal.  2. Abrogation et remplacement de la délibération n°2024/
 04/08/053 du 20 juin 2024 portant création d’emplois non permanents dan
 s les accueils de loisirs 2024 3. Autorisation de recours a des vacataire
 s dans les accueils de loisirs sans hébergement (ALSH) et fixation des mo
 dalités de rémunération  		\n			\n									Cliquez ici\n					\n						
 																				\n			INFOS PRATIQUES		\n			\n									Tous les événe
 ments\n					\n		contact.ville@ville-petitbourg.frMairieTél : 0590 95 38 0
 0		\n			
ATTACH;FMTTYPE=image/jpeg:https://www.ville-petitbourg.fr/wp-content/uploa
 ds/2024/07/Visuel-Conseil-Municipal-e1719850313597.png
CATEGORIES:Citoyenneté
END:VEVENT
BEGIN:VTIMEZONE
TZID:America/Guadeloupe
X-LIC-LOCATION:America/Guadeloupe
BEGIN:STANDARD
DTSTART:20230702T180000
TZOFFSETFROM:-0400
TZOFFSETTO:-0400
TZNAME:AST
END:STANDARD
END:VTIMEZONE
END:VCALENDAR