BEGIN:VCALENDAR
VERSION:2.0
PRODID:-//wp-events-plugin.com//7.2.3.1//EN
TZID:Europe/Paris
X-WR-TIMEZONE:Europe/Paris
BEGIN:VEVENT
UID:224@ville-petitbourg.fr
DTSTART;TZID=America/Guadeloupe:20260428T180000
DTEND;TZID=America/Guadeloupe:20260428T200000
DTSTAMP:20260423T165911Z
URL:https://www.ville-petitbourg.fr/events/conseil-municipal-18/
SUMMARY:Conseil Municipal
DESCRIPTION:Lundi 28 avril 2026 - 18h				\n		Le Maire de la Ville de Petit-
 Bourg\, Monsieur David NEBOR\, informe ses administrés de la tenue de la 
 prochaine réunion du Conseil Municipal:  -  Le mardi 28 avril 2026\,-
   Dès 18h\,-  A la salle des délibérations de la Mairie. Consultez l
 'ordre du jour :  		\n					\n									Cliquez ici\n					\n														
 																\n					INFOS PRATIQUES				\n					\n									Tous les évé
 nements\n					\n		contact.ville@ville-petitbourg.frMairieTél : 0590 95 38
  00		\n			
ATTACH;FMTTYPE=image/jpeg:https://www.ville-petitbourg.fr/wp-content/uploa
 ds/2026/04/mise-en-avant-site-et-appli-scaled.png
CATEGORIES:Citoyenneté
END:VEVENT
BEGIN:VTIMEZONE
TZID:America/Guadeloupe
X-LIC-LOCATION:America/Guadeloupe
BEGIN:STANDARD
DTSTART:20250428T180000
TZOFFSETFROM:-0400
TZOFFSETTO:-0400
TZNAME:AST
END:STANDARD
END:VTIMEZONE
END:VCALENDAR