BEGIN:VCALENDAR
VERSION:2.0
PRODID:-//wp-events-plugin.com//7.2.3.1//EN
TZID:Europe/Paris
X-WR-TIMEZONE:Europe/Paris
BEGIN:VEVENT
UID:181@ville-petitbourg.fr
DTSTART;TZID=America/Guadeloupe:20251227T073000
DTEND;TZID=America/Guadeloupe:20251227T090000
DTSTAMP:20251222T131555Z
URL:https://www.ville-petitbourg.fr/events/conseil-municipal-16/
SUMMARY:Conseil Municipal
DESCRIPTION:Samedi 27 décembre 2025 - 07h30				\n		Le Maire de la Ville de
  Petit-Bourg\, Monsieur David NEBOR\, informe ses administrés de la tenue
  de la prochaine réunion du Conseil Municipal:  -  Le samedi 27 décem
 bre\,-  Dès 07h30\,-  A la salle des délibérations de la Mairie. Con
 sultez l'ordre du jour :   		\n					\n									Cliquez ici\n					\n				
 	INFOS PRATIQUES				\n					\n									Tous les événements\n					\n		Mair
 ie : 0590 95 38 00: contact@ville-petitbourg.fr		\n			
ATTACH;FMTTYPE=image/jpeg:https://www.ville-petitbourg.fr/wp-content/uploa
 ds/2025/12/Image-mise-en-avant-site-web-application1.png
CATEGORIES:Citoyenneté
END:VEVENT
BEGIN:VTIMEZONE
TZID:America/Guadeloupe
X-LIC-LOCATION:America/Guadeloupe
BEGIN:STANDARD
DTSTART:20241227T073000
TZOFFSETFROM:-0400
TZOFFSETTO:-0400
TZNAME:AST
END:STANDARD
END:VTIMEZONE
END:VCALENDAR