BEGIN:VCALENDAR
VERSION:2.0
PRODID:-//wp-events-plugin.com//7.2.3.1//EN
TZID:Europe/Paris
X-WR-TIMEZONE:Europe/Paris
BEGIN:VEVENT
UID:177@ville-petitbourg.fr
DTSTART;TZID=America/Guadeloupe:20251110T180000
DTEND;TZID=America/Guadeloupe:20251110T210000
DTSTAMP:20251105T160710Z
URL:https://www.ville-petitbourg.fr/events/conseil-municipal-15/
SUMMARY:Conseil Municipal du 10 novembre 2025
DESCRIPTION:Lundi 10 novembre 2025 - 18h				\n		Le Maire de la Ville de Pet
 it-Bourg\, Monsieur David NEBOR\, informe ses administrés de la tenue de 
 la prochaine réunion du Conseil Municipal:  -  Le lundi 10 novembre 20
 25\,-  Dès 18h\,-  A la salle des délibérations de la Mairie. Consul
 tez l'ordre du jour :  		\n					\n									Cliquez ici\n					\n					INFO
 S PRATIQUES				\n					\n									Tous les événements\n					\n		Mairie :
  0590 95 38 00: contact@ville-petitbourg.fr		\n			
ATTACH;FMTTYPE=image/jpeg:https://www.ville-petitbourg.fr/wp-content/uploa
 ds/2025/09/Image-intro-par-defaut.jpg
CATEGORIES:Citoyenneté
END:VEVENT
BEGIN:VTIMEZONE
TZID:America/Guadeloupe
X-LIC-LOCATION:America/Guadeloupe
BEGIN:STANDARD
DTSTART:20241110T180000
TZOFFSETFROM:-0400
TZOFFSETTO:-0400
TZNAME:AST
END:STANDARD
END:VTIMEZONE
END:VCALENDAR