BEGIN:VCALENDAR
VERSION:2.0
PRODID:-//wp-events-plugin.com//7.2.3.1//EN
TZID:Europe/Paris
X-WR-TIMEZONE:Europe/Paris
BEGIN:VEVENT
UID:159@ville-petitbourg.fr
DTSTART;TZID=America/Guadeloupe:20250717T183000
DTEND;TZID=America/Guadeloupe:20250717T210000
DTSTAMP:20250715T142226Z
URL:https://www.ville-petitbourg.fr/events/conseil-municipal-14/
SUMMARY:Conseil Municipal du 17 juillet
DESCRIPTION:Jeudi 17 juillet 2025 - 18h				\nLe Maire de la Ville de Petit-
 Bourg\, Monsieur David NEBOR\, informe ses administrés de la tenue de la 
 prochaine réunion du Conseil Municipal:\n&nbsp\;\n&nbsp\;\n-&nbsp\; Le je
 udi 17 juillet 2025\,\n-&nbsp\; Dès 18h\,\n-&nbsp\; À la salle des déli
 bérations de la Mairie.\n&nbsp\;\nConsultez l'ordre du jour :\n&nbsp\;\n&
 nbsp\;		\n					\n									Cliquez ici\n					\n					INFOS PRATIQUES				\n		
 			\n									Tous les événements\n					\n		Mairie : 0590 95 38 00: con
 tact@ville-petitbourg.fr		\n			
ATTACH;FMTTYPE=image/jpeg:https://www.ville-petitbourg.fr/wp-content/uploa
 ds/2025/07/Image-mise-en-avant-site-web-2.png
END:VEVENT
BEGIN:VTIMEZONE
TZID:America/Guadeloupe
X-LIC-LOCATION:America/Guadeloupe
BEGIN:STANDARD
DTSTART:20240717T183000
TZOFFSETFROM:-0400
TZOFFSETTO:-0400
TZNAME:AST
END:STANDARD
END:VTIMEZONE
END:VCALENDAR