BEGIN:VCALENDAR
VERSION:2.0
PRODID:-//wp-events-plugin.com//7.2.3.1//EN
TZID:Europe/Paris
X-WR-TIMEZONE:Europe/Paris
BEGIN:VEVENT
UID:150@ville-petitbourg.fr
DTSTART;TZID=America/Guadeloupe:20250515T180000
DTEND;TZID=America/Guadeloupe:20250515T200000
DTSTAMP:20250513T233257Z
URL:https://www.ville-petitbourg.fr/events/conseil-municipal-13/
SUMMARY:Conseil Municipal du 15 mai 2025
DESCRIPTION:Jeudi 15 mai 2025 - 18h\nLe Maire de la Ville de Petit-Bourg\, 
 Monsieur David NEBOR\, informe ses administrés de la tenue de la prochain
 e réunion du Conseil Municipal:  -  Le jeudi 15 mai 2025\,-  Dès 18h
 \,-  A la salle des délibérations de la Mairie. Consultez l'ordre du j
 our :\n\nCliquez ici\n\nINFOS PRATIQUES\n\nTous les événements\n\n\nMair
 ie\n\n : 0590 95 38 00\n\n: contact@ville-petitbourg.fr\n\n
ATTACH;FMTTYPE=image/jpeg:https://www.ville-petitbourg.fr/wp-content/uploa
 ds/2025/05/Image-mise-en-avant-site-web-42.png
END:VEVENT
BEGIN:VTIMEZONE
TZID:America/Guadeloupe
X-LIC-LOCATION:America/Guadeloupe
BEGIN:STANDARD
DTSTART:20240515T180000
TZOFFSETFROM:-0400
TZOFFSETTO:-0400
TZNAME:AST
END:STANDARD
END:VTIMEZONE
END:VCALENDAR