BEGIN:VCALENDAR
VERSION:2.0
PRODID:-//wp-events-plugin.com//7.2.3.1//EN
TZID:Europe/Paris
X-WR-TIMEZONE:Europe/Paris
BEGIN:VEVENT
UID:135@ville-petitbourg.fr
DTSTART;TZID=America/Guadeloupe:20250403T180000
DTEND;TZID=America/Guadeloupe:20250403T200000
DTSTAMP:20250324T132922Z
URL:https://www.ville-petitbourg.fr/events/conseil-municipal-12/
SUMMARY:Conseil Municipal
DESCRIPTION:Jeudi 3 avril 2025 - 18h				\n		Le Maire de la Ville de Petit-B
 ourg\, Monsieur David NEBOR\, informe ses administrés de la tenue de la p
 rochaine réunion du Conseil Municipal:  -  Le jeudi 3 avril 2025\,-  
 Dès 18h\,-  A la salle des délibérations de la Mairie. Consultez l'or
 dre du jour :  		\n					\n									Cliquez ici\n					\n					INFOS PRATIQ
 UES				\n					\n									Tous les événements\n					\n		Mairie : 0590 95
  38 00: contact@ville-petitbourg.fr		\n			
ATTACH;FMTTYPE=image/jpeg:https://www.ville-petitbourg.fr/wp-content/uploa
 ds/2025/03/Image-mise-en-avant-site-web-33-1.png
END:VEVENT
BEGIN:VTIMEZONE
TZID:America/Guadeloupe
X-LIC-LOCATION:America/Guadeloupe
BEGIN:STANDARD
DTSTART:20240403T180000
TZOFFSETFROM:-0400
TZOFFSETTO:-0400
TZNAME:AST
END:STANDARD
END:VTIMEZONE
END:VCALENDAR