BEGIN:VCALENDAR
VERSION:2.0
PRODID:-//wp-events-plugin.com//7.2.3.1//EN
TZID:Europe/Paris
X-WR-TIMEZONE:Europe/Paris
BEGIN:VEVENT
UID:133@ville-petitbourg.fr
DTSTART;TZID=America/Guadeloupe:20250321T180000
DTEND;TZID=America/Guadeloupe:20250321T203000
DTSTAMP:20250319T124109Z
URL:https://www.ville-petitbourg.fr/events/conseil-municipal-11/
SUMMARY:Conseil Municipal
DESCRIPTION:Lundi 21 mars 2025 - 18h				\n		Le Maire de la Ville de Petit-B
 ourg\, Monsieur David NEBOR\, informe ses administrés de la tenue de la p
 rochaine réunion du Conseil Municipal:  -  Le vendredi 21 mars 2025\,-
   Dès 18h\,-  A la salle des délibérations de la Mairie. Consultez l
 'ordre du jour :  		\n					\n									Cliquez ici\n					\n					INFOS PRA
 TIQUES				\n					\n									Tous les événements\n					\n		Mairie : 0590
  95 38 00: contact@ville-petitbourg.fr		\n			
ATTACH;FMTTYPE=image/jpeg:https://www.ville-petitbourg.fr/wp-content/uploa
 ds/2025/03/Image-mise-en-avant-site-web-34.png
END:VEVENT
BEGIN:VTIMEZONE
TZID:America/Guadeloupe
X-LIC-LOCATION:America/Guadeloupe
BEGIN:STANDARD
DTSTART:20240321T180000
TZOFFSETFROM:-0400
TZOFFSETTO:-0400
TZNAME:AST
END:STANDARD
END:VTIMEZONE
END:VCALENDAR