BEGIN:VCALENDAR
VERSION:2.0
PRODID:-//wp-events-plugin.com//7.2.3.1//EN
TZID:Europe/Paris
X-WR-TIMEZONE:Europe/Paris
BEGIN:VEVENT
UID:125@ville-petitbourg.fr
DTSTART;TZID=America/Guadeloupe:20250221T180000
DTEND;TZID=America/Guadeloupe:20250221T180000
DTSTAMP:20250217T135222Z
URL:https://www.ville-petitbourg.fr/events/conseil-municipal-10/
SUMMARY:Conseil Municipal
DESCRIPTION:Vendredi 21 février 2025 - 18h				\n		Le Maire de la Ville de 
 Petit-Bourg\, Monsieur David NEBOR\, informe ses administrés de la tenue 
 de la prochaine réunion du Conseil Municipal:  -  Le vendredi 21 févr
 ier 2025\,-  Dès 18h\,-  A la salle des délibérations de la Mairie. 
 Consultez l'ordre du jour :  		\n					\n									Cliquez ici\n					\n			
 		INFOS PRATIQUES				\n					\n									Tous les événements\n					\n		Mai
 rie : 0590 95 38 00: contact@ville-petitbourg.fr		\n			
ATTACH;FMTTYPE=image/jpeg:https://www.ville-petitbourg.fr/wp-content/uploa
 ds/2025/02/Image-mise-en-avant-site-web-23.png
END:VEVENT
BEGIN:VTIMEZONE
TZID:America/Guadeloupe
X-LIC-LOCATION:America/Guadeloupe
BEGIN:STANDARD
DTSTART:20240222T180000
TZOFFSETFROM:-0400
TZOFFSETTO:-0400
TZNAME:AST
END:STANDARD
END:VTIMEZONE
END:VCALENDAR