BEGIN:VCALENDAR
VERSION:2.0
PRODID:-//wp-events-plugin.com//7.2.3.1//EN
TZID:Europe/Paris
X-WR-TIMEZONE:Europe/Paris
BEGIN:VEVENT
UID:129@ville-petitbourg.fr
DTSTART;TZID=America/Guadeloupe:20250228T180000
DTEND;TZID=America/Guadeloupe:20250228T210000
DTSTAMP:20250225T201233Z
URL:https://www.ville-petitbourg.fr/events/conference-sur-les-requins-en-g
 uadeloupe-especes-et-actions-mises-en-oeuvre/
SUMMARY:Conférence sur "les requins en Guadeloupe: espèces et actions mis
 es en oeuvre"
DESCRIPTION:Vendredi 28 février 2025 - 18h				\n		 La ville de Petit-Bour
 g vous invite à participer à la conférence sur "les requins en Guadelou
 pe: les espèces et les actions mises en œuvre."le vendredi 28 février 2
 025à partir de 18hà l'Espace Culturel et Multimédia de la Lézarde Ent
 rée libre et gratuite pour tous !!!  		\n					INFOS PRATIQUES				\n				
 	\n									Tous les événements\n					\n		Mairie : 0590 95 38 00: conta
 ct@ville-petitbourg.fr		\n			
ATTACH;FMTTYPE=image/jpeg:https://www.ville-petitbourg.fr/wp-content/uploa
 ds/2025/02/Image-mise-en-avant-site-web-25.png
CATEGORIES:Loisir
END:VEVENT
BEGIN:VTIMEZONE
TZID:America/Guadeloupe
X-LIC-LOCATION:America/Guadeloupe
BEGIN:STANDARD
DTSTART:20240229T180000
TZOFFSETFROM:-0400
TZOFFSETTO:-0400
TZNAME:AST
END:STANDARD
END:VTIMEZONE
END:VCALENDAR