BEGIN:VCALENDAR
VERSION:2.0
PRODID:-//wp-events-plugin.com//7.2.3.1//EN
TZID:Europe/Paris
X-WR-TIMEZONE:Europe/Paris
BEGIN:VEVENT
UID:39@ville-petitbourg.fr
DTSTART;TZID=America/Guadeloupe:20240422T093000
DTEND;TZID=America/Guadeloupe:20240422T120000
DTSTAMP:20240417T170918Z
URL:https://www.ville-petitbourg.fr/events/conference-debat-sur-le-theme-d
 e-je-gere-ma-succession/
SUMMARY:Conférence-débat sur le thème de "Je gère ma succession"
DESCRIPTION:/*! elementor - v3.18.0 - 20-12-2023 */\n.elementor-heading-tit
 le{padding:0\;margin:0\;line-height:1}.elementor-widget-heading .elementor
 -heading-title[class*=elementor-size-]>a{color:inherit\;font-size:inherit\
 ;line-height:inherit}.elementor-widget-heading .elementor-heading-title.el
 ementor-size-small{font-size:15px}.elementor-widget-heading .elementor-hea
 ding-title.elementor-size-medium{font-size:19px}.elementor-widget-heading 
 .elementor-heading-title.elementor-size-large{font-size:29px}.elementor-wi
 dget-heading .elementor-heading-title.elementor-size-xl{font-size:39px}.el
 ementor-widget-heading .elementor-heading-title.elementor-size-xxl{font-si
 ze:59px}Lundi 22 avril - 9h30 à 12h		\n			SENIOR		\n		 Pour cette matiné
 e d'échange\, les CCAS de Petit-Bourg et la Mutualité Française de Guad
 eloupe vous donne rendez-vous :-  Le lundi 22 avril 2024\,-  Dès 9h30\
 ,-  A la salle des Délibérations de Petit-Bourg.  Les sujets abordés 
 seront:-la transmission des biens-le testament-l'héritage-les règles du 
 partage  Pour plus d'informations\, contactez le CCAS de Petit-Bourg au:
  0590 69 64 99 ou 0690 71 59 40  		\n			/*! elementor - v3.18.0 - 20-12-
 2023 */\n.elementor-widget-image{text-align:center}.elementor-widget-image
  a{display:inline-block}.elementor-widget-image a img[src$=".svg"]{width:4
 8px}.elementor-widget-image img{vertical-align:middle\;display:inline-bloc
 k}																											\n			INFOS PRATIQUES		\n			\n						Tous les 
 événements\n					\n		Le lundi 22 avril 2024Dès 9h30\,A la salle des Dé
 libérations de Petit-Bourg.MairieTél : 0590 95 38 00		\n			/*! elementor
  - v3.18.0 - 20-12-2023 */\n.elementor-widget-google_maps .elementor-widge
 t-container{overflow:hidden}.elementor-widget-google_maps .elementor-custo
 m-embed{line-height:0}.elementor-widget-google_maps iframe{height:300px}		
 \n			
ATTACH;FMTTYPE=image/jpeg:https://www.ville-petitbourg.fr/wp-content/uploa
 ds/2024/04/437886829_832216245617564_7846051017903551222_n.jpg
END:VEVENT
BEGIN:VTIMEZONE
TZID:America/Guadeloupe
X-LIC-LOCATION:America/Guadeloupe
BEGIN:STANDARD
DTSTART:20230423T093000
TZOFFSETFROM:-0400
TZOFFSETTO:-0400
TZNAME:AST
END:STANDARD
END:VTIMEZONE
END:VCALENDAR