BEGIN:VCALENDAR
VERSION:2.0
PRODID:-//wp-events-plugin.com//7.2.3.1//EN
TZID:Europe/Paris
X-WR-TIMEZONE:Europe/Paris
BEGIN:VEVENT
UID:20@ville-petitbourg.fr
DTSTART;TZID=America/Guadeloupe:20240223T180000
DTEND;TZID=America/Guadeloupe:20240223T210000
DTSTAMP:20240215T171550Z
URL:https://www.ville-petitbourg.fr/events/conference-debat-pour-les-aines
 -a-propos-de-gaston-monnerville/
SUMMARY:Conférence-débat pour les aînés\, à propos de Gaston MONNERVIL
 LE
DESCRIPTION:&nbsp\;\n\n&nbsp\;
ATTACH;FMTTYPE=image/jpeg:https://www.ville-petitbourg.fr/wp-content/uploa
 ds/2024/02/thumbnail_gaston-Monnerville.jpg
END:VEVENT
BEGIN:VTIMEZONE
TZID:America/Guadeloupe
X-LIC-LOCATION:America/Guadeloupe
BEGIN:STANDARD
DTSTART:20230223T180000
TZOFFSETFROM:-0400
TZOFFSETTO:-0400
TZNAME:AST
END:STANDARD
END:VTIMEZONE
END:VCALENDAR