BEGIN:VCALENDAR
VERSION:2.0
PRODID:-//wp-events-plugin.com//7.2.3.1//EN
TZID:Europe/Paris
X-WR-TIMEZONE:Europe/Paris
BEGIN:VEVENT
UID:131@ville-petitbourg.fr
DTSTART;TZID=America/Guadeloupe:20250314T180000
DTEND;TZID=America/Guadeloupe:20250314T210000
DTSTAMP:20250311T134630Z
URL:https://www.ville-petitbourg.fr/events/conference-debat-le-risque-sism
 ique-et-sa-prevention/
SUMMARY:Conférence-débat : Le risque sismique et sa prévention
DESCRIPTION:Vendredi 14 mars 2025 - 18h\nLa Ville de Petit-Bourg vous invit
 e à une conférence-débat portant sur le risque sismique et sa préventi
 on : -  Le vendredi 14 mars 2025\,-  Dès 18h\,-  À la Bibliothèque 
 de la Lézarde.\n\nINFOS PRATIQUES\n\nTous les événements\n\n\nMairie\n\
 n : 0590 95 38 00\n\n: contact@ville-petitbourg.fr\n\n
ATTACH;FMTTYPE=image/jpeg:https://www.ville-petitbourg.fr/wp-content/uploa
 ds/2025/03/conference-debat-1-1.png
CATEGORIES:Loisir
END:VEVENT
BEGIN:VTIMEZONE
TZID:America/Guadeloupe
X-LIC-LOCATION:America/Guadeloupe
BEGIN:STANDARD
DTSTART:20240314T180000
TZOFFSETFROM:-0400
TZOFFSETTO:-0400
TZNAME:AST
END:STANDARD
END:VTIMEZONE
END:VCALENDAR