BEGIN:VCALENDAR
VERSION:2.0
PRODID:-//wp-events-plugin.com//7.2.3.1//EN
TZID:Europe/Paris
X-WR-TIMEZONE:Europe/Paris
BEGIN:VEVENT
UID:186@ville-petitbourg.fr
DTSTART;TZID=America/Guadeloupe:20260115T100000
DTEND;TZID=America/Guadeloupe:20260115T113000
DTSTAMP:20260113T162736Z
URL:https://www.ville-petitbourg.fr/events/conference-de-presse-tournoi-it
 f-w35-de-petit-bourg-2026/
SUMMARY:Conférence de presse — Tournoi ITF W35 de Petit-Bourg 2026
DESCRIPTION:Jeudi 15 janvier - 10 h 				\n					SPORT				\n		Présentation o
 fficielle de la 11ᵉ édition du tournoi international féminin ITF de Pe
 tit-Bourg\, en présence des organisateurs\, partenaires et acteurs du ten
 nis local. Accès libre.Consultez le dossier de presse		\n															
 															\n					INFOS PRATIQUES				\n					\n									Tous les évén
 ements\n					\n			
ATTACH;FMTTYPE=image/jpeg:https://www.ville-petitbourg.fr/wp-content/uploa
 ds/2026/01/Mise-en-avant-site-et-application-scaled.png
CATEGORIES:Sport
END:VEVENT
BEGIN:VTIMEZONE
TZID:America/Guadeloupe
X-LIC-LOCATION:America/Guadeloupe
BEGIN:STANDARD
DTSTART:20250115T100000
TZOFFSETFROM:-0400
TZOFFSETTO:-0400
TZNAME:AST
END:STANDARD
END:VTIMEZONE
END:VCALENDAR