BEGIN:VCALENDAR
VERSION:2.0
PRODID:-//wp-events-plugin.com//7.2.3.1//EN
TZID:Europe/Paris
X-WR-TIMEZONE:Europe/Paris
BEGIN:VEVENT
UID:182@ville-petitbourg.fr
DTSTART;TZID=America/Guadeloupe:20260206T163000
DTEND;TZID=America/Guadeloupe:20260206T163000
DTSTAMP:20260107T165904Z
URL:https://www.ville-petitbourg.fr/events/cloture-des-inscriptions-sur-le
 s-listes-electorales/
SUMMARY:Clôture des inscriptions sur les listes électorales
DESCRIPTION:Vendredi 06 février 				\n					CITOYENNETE				\n		Les électio
 ns municipales et communautaires se tiendront les dimanches 15 et 22 mars 
 2026. À cette occasion\, les électeurs seront appelés à élire les con
 seillers municipaux et communautaires.Afin de pouvoir voter\, il est indis
 pensable d’être inscrit sur les listes électorales. Vous pouvez dès 
 à présent vérifier votre situation et\, le cas échéant\, procéder à
  votre inscription avant la date limite.Dates limites d’inscriptionInscr
 iption en ligne : jusqu’au mercredi 4 février 2026 inclusInscription en
  mairie : jusqu’au vendredi 6 février 2026 inclusComment s’inscrire ?
 En ligneL’inscription peut se faire directement sur le site officiel : s
 ervice-public.gouv.frEn mairieVous pouvez également vous inscrire en vous
  rendant à la mairie de votre commune. Les pièces suivantes seront néce
 ssaires :un justificatif d’identité \;un justificatif de domicile \;le 
 formulaire Cerfa n°12669 de demande d’inscription.La demande peut égal
 ement être transmise par courrier à la mairie de votre commune d’inscr
 iption.		\n															
ATTACH;FMTTYPE=image/jpeg:https://www.ville-petitbourg.fr/wp-content/uploa
 ds/2026/01/Image-mise-en-avant-site-web-application.png
CATEGORIES:Citoyenneté
END:VEVENT
BEGIN:VTIMEZONE
TZID:America/Guadeloupe
X-LIC-LOCATION:America/Guadeloupe
BEGIN:STANDARD
DTSTART:20250206T163000
TZOFFSETFROM:-0400
TZOFFSETTO:-0400
TZNAME:AST
END:STANDARD
END:VTIMEZONE
END:VCALENDAR