BEGIN:VCALENDAR
VERSION:2.0
PRODID:-//wp-events-plugin.com//7.2.3.1//EN
TZID:Europe/Paris
X-WR-TIMEZONE:Europe/Paris
BEGIN:VEVENT
UID:114@ville-petitbourg.fr
DTSTART;TZID=America/Guadeloupe:20250112T094500
DTEND;TZID=America/Guadeloupe:20250112T170000
DTSTAMP:20250109T125021Z
URL:https://www.ville-petitbourg.fr/events/challenge-apiye-2/
SUMMARY:Challenge Apiyé
DESCRIPTION:
ATTACH;FMTTYPE=image/jpeg:https://www.ville-petitbourg.fr/wp-content/uploa
 ds/2025/01/Image-mise-en-avant-site-web-16.png
CATEGORIES:Sport
END:VEVENT
BEGIN:VTIMEZONE
TZID:America/Guadeloupe
X-LIC-LOCATION:America/Guadeloupe
BEGIN:STANDARD
DTSTART:20240113T094500
TZOFFSETFROM:-0400
TZOFFSETTO:-0400
TZNAME:AST
END:STANDARD
END:VTIMEZONE
END:VCALENDAR