BEGIN:VCALENDAR
VERSION:2.0
PRODID:-//wp-events-plugin.com//7.2.3.1//EN
TZID:Europe/Paris
X-WR-TIMEZONE:Europe/Paris
BEGIN:VEVENT
UID:113@ville-petitbourg.fr
DTSTART;TZID=America/Guadeloupe:20250111T200000
DTEND;TZID=America/Guadeloupe:20250111T235900
DTSTAMP:20250108T142140Z
URL:https://www.ville-petitbourg.fr/events/ceremonie-des-voeux-a-la-popula
 tion/
SUMMARY:Cérémonie des vœux à la population
DESCRIPTION:
ATTACH;FMTTYPE=image/jpeg:https://www.ville-petitbourg.fr/wp-content/uploa
 ds/2025/01/WhatsApp-Image-2025-01-03-at-09.03.45.jpeg
END:VEVENT
BEGIN:VTIMEZONE
TZID:America/Guadeloupe
X-LIC-LOCATION:America/Guadeloupe
BEGIN:STANDARD
DTSTART:20240112T200000
TZOFFSETFROM:-0400
TZOFFSETTO:-0400
TZNAME:AST
END:STANDARD
END:VTIMEZONE
END:VCALENDAR