BEGIN:VCALENDAR
VERSION:2.0
PRODID:-//wp-events-plugin.com//7.2.3.1//EN
TZID:Europe/Paris
X-WR-TIMEZONE:Europe/Paris
BEGIN:VEVENT
UID:6@ville-petitbourg.fr
DTSTART;TZID=America/Martinique:20240106T193000
DTEND;TZID=America/Martinique:20240106T233000
DTSTAMP:20240607T080027Z
URL:https://www.ville-petitbourg.fr/events/ceremonie-des-voeux-a-la-popula
 tion-2024/
SUMMARY:Cérémonie des voeux à la population 2024
DESCRIPTION:Monsieur David NEBOR\, Maire de la Ville de Petit-Bourg et le C
 onseil Municipal vous souhaitent une Belle et Heureuse Année !\n\nA cette
  occasion\, vous êtes cordialement invités.es à la présentation des v
 œux à la population :\n\nLe samedi 6 janvier 2024\, à 19h30 au Palais d
 es Sports Laura FLESSEL\n\n\nA qui s’adresser ?\nCabinet du Maire\n\n\n0
 590 95 38 00\n\nHôtel de Ville de Petit-Bourg\n\nRue Schoelcher\n\n97170 
 Petit-Bourg
ATTACH;FMTTYPE=image/jpeg:https://www.ville-petitbourg.fr/wp-content/uploa
 ds/2025/09/Image-intro-par-defaut.jpg
END:VEVENT
BEGIN:VTIMEZONE
TZID:America/Martinique
X-LIC-LOCATION:America/Martinique
BEGIN:STANDARD
DTSTART:20230106T193000
TZOFFSETFROM:-0400
TZOFFSETTO:-0400
TZNAME:AST
END:STANDARD
END:VTIMEZONE
END:VCALENDAR