BEGIN:VCALENDAR
VERSION:2.0
PRODID:-//wp-events-plugin.com//7.2.3.1//EN
TZID:Europe/Paris
X-WR-TIMEZONE:Europe/Paris
BEGIN:VEVENT
UID:183@ville-petitbourg.fr
DTSTART;TZID=America/Guadeloupe:20260117T183000
DTEND;TZID=America/Guadeloupe:20260117T235900
DTSTAMP:20260108T150059Z
URL:https://www.ville-petitbourg.fr/events/ceremonie-des-voeux-a-la-popula
 tion-2/
SUMMARY:Cérémonie des Vœux à la population
DESCRIPTION:La Cérémonie des Vœux à la population est reportée.Rendez-
 vous désormais le samedi 17 janvier 2026\, dès 18h30\, au Palais des Spo
 rts Laura FLESSEL.Nous vous attendons nombreux pour ce temps fort de la vi
 e communale.
ATTACH;FMTTYPE=image/jpeg:https://www.ville-petitbourg.fr/wp-content/uploa
 ds/2026/01/Minuature-site-et-application-scaled.png
CATEGORIES:Citoyenneté
END:VEVENT
BEGIN:VTIMEZONE
TZID:America/Guadeloupe
X-LIC-LOCATION:America/Guadeloupe
BEGIN:STANDARD
DTSTART:20250117T183000
TZOFFSETFROM:-0400
TZOFFSETTO:-0400
TZNAME:AST
END:STANDARD
END:VTIMEZONE
END:VCALENDAR