BEGIN:VCALENDAR
VERSION:2.0
PRODID:-//wp-events-plugin.com//7.2.3.1//EN
TZID:Europe/Paris
X-WR-TIMEZONE:Europe/Paris
BEGIN:VEVENT
UID:176@ville-petitbourg.fr
DTSTART;TZID=America/Guadeloupe:20251111T083000
DTEND;TZID=America/Guadeloupe:20251111T123000
DTSTAMP:20251105T130544Z
URL:https://www.ville-petitbourg.fr/events/ceremonie-commemorative-du11-no
 vembre-1918/
SUMMARY:Cérémonie commémorative du 11 novembre 1918
DESCRIPTION:Mardi 11 novembre - 8h30 à 12h30\nHISTOIRE\n\nCe lundi 11 nove
 mbre\, la Ville de Petit-Bourg vous invite à participer à la cérémonie
  commémorative de l’Armistice de 1918\, en hommage à celles et ceux qu
 i ont donné leur vie pour la France.\n\n📍 Départ à 8h30 depuis la Ma
 irie\nAu programme :\n➡️ Défilé patriotique et cérémonie au monume
 nt aux morts\n➡️ Mise à l’honneur de M. Michel DELAG\n➡️ À 10h
 30\, déplacement vers l’Espace Culturel et Multimédia de la Lézarde p
 our le dévoilement d’une plaque en hommage à M. Gerville ROUYARD\, sui
 vi d’une collation conviviale.\n\n🚌 Des bus seront mis à disposition
  pour le retour à la Mairie.\n\n\nINFOS PRATIQUES\n\nTous les événement
 s\n\n
ATTACH;FMTTYPE=image/jpeg:https://www.ville-petitbourg.fr/wp-content/uploa
 ds/2025/11/Image-mise-en-avant-site-web-application-3.png
CATEGORIES:Histoire
END:VEVENT
BEGIN:VTIMEZONE
TZID:America/Guadeloupe
X-LIC-LOCATION:America/Guadeloupe
BEGIN:STANDARD
DTSTART:20241111T083000
TZOFFSETFROM:-0400
TZOFFSETTO:-0400
TZNAME:AST
END:STANDARD
END:VTIMEZONE
END:VCALENDAR