BEGIN:VCALENDAR
VERSION:2.0
PRODID:-//wp-events-plugin.com//7.2.3.1//EN
TZID:Europe/Paris
X-WR-TIMEZONE:Europe/Paris
BEGIN:VEVENT
UID:15@ville-petitbourg.fr
DTSTART;TZID=America/Guadeloupe:20240209T150000
DTEND;TZID=America/Guadeloupe:20240209T230000
DTSTAMP:20240131T170741Z
URL:https://www.ville-petitbourg.fr/events/bal-masque-pour-les-seniors-pet
 it-bourgeois/
SUMMARY:Bal Masqué pour les séniors petit-bourgeois
DESCRIPTION: {Play}Le CCAS de la Ville de Petit-Bourg invite les séniors 
 à un bal masqué récréatif:\n- le vendredi 9 février 2024\,\n- à 15h\
 ,\n- à la Salle Polyvalente Résidence Séniors\, de St-Jean Petit-Bourg.
 \n- Participation de 10 € : repas et boisson inclus.\n\nSéniors\, on vo
 us attend nombreux vêtu de vos plus beaux costumes au bal.\nVous n'avez p
 as de costume ? Ne vous inquiétez pas\, pour 5 € des ateliers seront à
  votre disposition pour en créer un.\nRenseignements et réservation au 0
 590 95 36 06 (CCAS).\n\nMettez votre plus beau costume et en route pour l'
 amusement !
ATTACH;FMTTYPE=image/jpeg:https://www.ville-petitbourg.fr/wp-content/uploa
 ds/2024/01/bal-masque.jpeg
LOCATION:Salle Polyvalente\, Résidence Séniors Saint-Jean\, Petit-Bourg\,
  97170\, Guadeloupe
GEO:16.191216;-61.594263
X-APPLE-STRUCTURED-LOCATION;VALUE=URI;X-ADDRESS=Résidence Séniors Saint-J
 ean\, Petit-Bourg\, 97170\, Guadeloupe;X-APPLE-RADIUS=100;X-TITLE=Salle Po
 lyvalente:geo:16.191216,-61.594263
END:VEVENT
BEGIN:VTIMEZONE
TZID:America/Guadeloupe
X-LIC-LOCATION:America/Guadeloupe
BEGIN:STANDARD
DTSTART:20230209T150000
TZOFFSETFROM:-0400
TZOFFSETTO:-0400
TZNAME:AST
END:STANDARD
END:VTIMEZONE
END:VCALENDAR