BEGIN:VCALENDAR
VERSION:2.0
PRODID:-//wp-events-plugin.com//7.2.3.1//EN
TZID:Europe/Paris
X-WR-TIMEZONE:Europe/Paris
BEGIN:VEVENT
UID:80@ville-petitbourg.fr
DTSTART;TZID=America/Guadeloupe:20241003T090000
DTEND;TZID=America/Guadeloupe:20241003T120000
DTSTAMP:20240829T190127Z
URL:https://www.ville-petitbourg.fr/events/avis-denquete-publique-4/
SUMMARY:AVIS D'ENQUÊTE PUBLIQUE
DESCRIPTION:
ATTACH;FMTTYPE=image/jpeg:https://www.ville-petitbourg.fr/wp-content/uploa
 ds/2024/08/Avis-denquete-publique.jpg
CATEGORIES:Citoyenneté
END:VEVENT
BEGIN:VTIMEZONE
TZID:America/Guadeloupe
X-LIC-LOCATION:America/Guadeloupe
BEGIN:STANDARD
DTSTART:20231004T090000
TZOFFSETFROM:-0400
TZOFFSETTO:-0400
TZNAME:AST
END:STANDARD
END:VTIMEZONE
END:VCALENDAR