BEGIN:VCALENDAR
VERSION:2.0
PRODID:-//wp-events-plugin.com//7.2.3.1//EN
TZID:Europe/Paris
X-WR-TIMEZONE:Europe/Paris
BEGIN:VEVENT
UID:128@ville-petitbourg.fr
DTSTART;TZID=America/Guadeloupe:20250228T083000
DTEND;TZID=America/Guadeloupe:20250228T123000
DTSTAMP:20250221T153547Z
URL:https://www.ville-petitbourg.fr/events/atelier-parcoursup/
SUMMARY:Atelier Parcoursup
DESCRIPTION:Mardi 28 février - 8h 30 à 12h30				\n					Jeunesse				\n		Fu
 turs étudiants\, boostez votre avenir avec Parcoursup ! 🎯 👉 Besoin
  d’un coup de pouce pour remplir tes vœux ? La Ville de Petit-Bourg\, e
 n partenariat avec le CRIJ Guadeloupe\, t’invite à un « Atelier Parcou
 rsup » + une séance de développement personnel pour renforcer ta confia
 nce en toi avec des spécialistes ! 👍📌 RDV :•⁠ ⁠📆 le vendre
 di 28 février 2025•⁠ ⁠⁠📍au Complexe sportif Gaël MONFILS - Co
 lin•⁠ ⁠🕣de 8h30 à 12h30📲 Infos &amp\; inscription : 0590 26 9
 3 24 / 0590 69 63 24📧 service.jeunesse@ville-petitbourg.fr💻 N’oubl
 ie pas ta tablette ou ton PC ! 😉🔁 Partage à ceux qui en ont besoin 
 !		\n																														\n					INFOS PRATIQUES				\n					\n				
 					Tous les événements\n					\n		MairieTél : 0590 95 38 00		\n			
ATTACH;FMTTYPE=image/jpeg:https://www.ville-petitbourg.fr/wp-content/uploa
 ds/2025/02/Image-mise-en-avant-site-web-22-2.png
END:VEVENT
BEGIN:VTIMEZONE
TZID:America/Guadeloupe
X-LIC-LOCATION:America/Guadeloupe
BEGIN:STANDARD
DTSTART:20240229T083000
TZOFFSETFROM:-0400
TZOFFSETTO:-0400
TZNAME:AST
END:STANDARD
END:VTIMEZONE
END:VCALENDAR