BEGIN:VCALENDAR
VERSION:2.0
PRODID:-//wp-events-plugin.com//7.2.3.1//EN
TZID:Europe/Paris
X-WR-TIMEZONE:Europe/Paris
BEGIN:VEVENT
UID:106@ville-petitbourg.fr
DTSTART;TZID=America/Guadeloupe:20241218T140000
DTEND;TZID=America/Guadeloupe:20241218T173000
DTSTAMP:20241213T123739Z
URL:https://www.ville-petitbourg.fr/events/arbre-de-noel-du-ccas/
SUMMARY:Arbre de Noël du CCAS
DESCRIPTION:Mercredi 18 décembre - 14h à 17h30		\n			LOISIR		\n		 Le CCAS
  de la Ville de Petit-Bourg organise l'Arbre de Noël des enfants :le merc
 redi 18 décembre 2024de 14h à 17h30au Parc de Saint-Jean  Pour partici
 per à cette manifestation\, l'inscription est OBLIGATOIRE. Sont concerné
 s les enfants âgés de 6 à 10 ans. Inscription au CCAS\, 20 rue Delgrè
 s (près de l'Eglise Notre Dame de Bon-Port) jusqu'au 13 décembre 2024 in
 clus. Pièces à fournir : livret de famille - pièce d'identité - justi
 ficatif d'adresse.  Renseignements au 0590 95 36 06 / 0690 71 59 40. 		\
 n																										\n			INFOS PRATIQUES		\n			\n									Tous les 
 événements\n					\n		MairieTél : 0590 95 38 00Mail : contact@ville-peti
 tbourg.fr		\n			
ATTACH;FMTTYPE=image/jpeg:https://www.ville-petitbourg.fr/wp-content/uploa
 ds/2024/12/Image-mise-en-avant-site-web-9-2.png
CATEGORIES:Loisir
END:VEVENT
BEGIN:VTIMEZONE
TZID:America/Guadeloupe
X-LIC-LOCATION:America/Guadeloupe
BEGIN:STANDARD
DTSTART:20231219T140000
TZOFFSETFROM:-0400
TZOFFSETTO:-0400
TZNAME:AST
END:STANDARD
END:VTIMEZONE
END:VCALENDAR