BEGIN:VCALENDAR
VERSION:2.0
PRODID:-//wp-events-plugin.com//7.2.3.1//EN
TZID:Europe/Paris
X-WR-TIMEZONE:Europe/Paris
BEGIN:VEVENT
UID:166@ville-petitbourg.fr
DTSTART;TZID=America/Guadeloupe:20250913T090000
DTEND;TZID=America/Guadeloupe:20250913T200000
DTSTAMP:20250909T174751Z
URL:https://www.ville-petitbourg.fr/events/14eme-edition-du-village-des-as
 sociations/
SUMMARY:14ème édition du Village des Associations
DESCRIPTION:Samedi 9 septembre - 09h\nLOISIRS\n\nLa Ville de Petit-Bourg vo
 us convie à la 14ème édition du Village des Associations\, le grand ren
 dez-vous des familles et de la rentrée.\n\n 	Le samedi 13 septembre 2025 
 \n 	dès 9h\,\n 	au Palais des Sports Laura FLESSEL.\n\nvenez découvrir l
 a diversité du tissu associatif local: culture\, sport\, social\, éducat
 ion\, jeunesse et environnement.\n\nAu programme : stands associatifs\, d
 émonstrations sur podium\, animations pour petits et grands\, prestations
  variées\, cadeaux à gagner et restauration aux saveurs locales.\n\n\nIN
 FOS PRATIQUES\n\nTous les événements\n\n\n 	Renseignements et informatio
 ns\n\nTél : 0590 94 88 57 //\n\n0690 53 77 11\n\n
ATTACH;FMTTYPE=image/jpeg:https://www.ville-petitbourg.fr/wp-content/uploa
 ds/2025/09/Image-mise-en-avant-site-web-1.jpg
CATEGORIES:Art,Environnement,Loisir,Sport
END:VEVENT
BEGIN:VTIMEZONE
TZID:America/Guadeloupe
X-LIC-LOCATION:America/Guadeloupe
BEGIN:STANDARD
DTSTART:20240913T090000
TZOFFSETFROM:-0400
TZOFFSETTO:-0400
TZNAME:AST
END:STANDARD
END:VTIMEZONE
END:VCALENDAR