BEGIN:VCALENDAR
VERSION:2.0
PRODID:-//wp-events-plugin.com//7.2.3.1//EN
TZID:Europe/Paris
X-WR-TIMEZONE:Europe/Paris
BEGIN:VEVENT
UID:22@ville-petitbourg.fr
DTSTART;TZID=America/Guadeloupe:20240303T080000
DTEND;TZID=America/Guadeloupe:20240303T080000
DTSTAMP:20240301T152755Z
URL:https://www.ville-petitbourg.fr/events/14eme-edition-de-la-coupe-descr
 ime-de-la-ville-de-petit-bourg/
SUMMARY:14ème édition de la" Coupe d'Escrime de la Ville de Petit-Bourg 
 »
DESCRIPTION:La Ville et le Club d'Escrime de Petit-Bourg vous invitent 
 à la 14ème édition de la" Coupe d'Escrime de la Ville de Petit-Bourg »
 \, qui aura lieu le dimanche 3 mars 2024\, à partir de 8h00\, au Palais d
 es Sports Laura Flessel.\n\nConsultez ci-dessous la programmation de la jo
 urnée :\n\n
ATTACH;FMTTYPE=image/jpeg:https://www.ville-petitbourg.fr/wp-content/uploa
 ds/2024/03/WhatsApp-Image-2024-03-01-at-08.50.15.jpeg
LOCATION:Palais des sports Laura FLESSEL\, Rue Victor Hugues\, Petit-Bourg\
 , Guadeloupe
GEO:16.198536;-61.590443
X-APPLE-STRUCTURED-LOCATION;VALUE=URI;X-ADDRESS=Rue Victor Hugues\, Petit-B
 ourg\, Guadeloupe;X-APPLE-RADIUS=100;X-TITLE=Palais des sports Laura FLESS
 EL:geo:16.198536,-61.590443
END:VEVENT
BEGIN:VTIMEZONE
TZID:America/Guadeloupe
X-LIC-LOCATION:America/Guadeloupe
BEGIN:STANDARD
DTSTART:20230304T080000
TZOFFSETFROM:-0400
TZOFFSETTO:-0400
TZNAME:AST
END:STANDARD
END:VTIMEZONE
END:VCALENDAR