BEGIN:VCALENDAR
VERSION:2.0
PRODID:-//wp-events-plugin.com//7.2.3.1//EN
TZID:Europe/Paris
X-WR-TIMEZONE:Europe/Paris
BEGIN:VEVENT
UID:82@ville-petitbourg.fr
DTSTART;TZID=America/Guadeloupe:20240914T083000
DTEND;TZID=America/Guadeloupe:20240914T180000
DTSTAMP:20240910T160617Z
URL:https://www.ville-petitbourg.fr/events/13e-edition-du-village-des-asso
 ciations/
SUMMARY:13e édition du Village des associations
DESCRIPTION:Samedi 14 septembre - 08h 30 à 18h\nASSOCIATIONS\nRendez-vous 
 à la 13eme édition du Village des Associations:\n\n 	le samedi 14 septem
 bre\,\n 	De 8h30 à 18h00\,\n 	sur la place Dominique LARIFLA.\n\nPrès de
  60 associations invitées. Venez nombreux les rencontrer et participer au
 x activités proposées (démonstrations\, balades en charrette\, initiati
 ons\, et bien d'autres). 🎁 De nombreux lots à gagner.\n\nINFOS PRATIQU
 ES\n\nTous les événements\n\n\nService Vie associative :\n\nTél. : 0590
  94 49 48\n\nRue Victor SCHOELCHER\n\n
ATTACH;FMTTYPE=image/jpeg:https://www.ville-petitbourg.fr/wp-content/uploa
 ds/2024/09/Habillage-Web-Village.png
CATEGORIES:Loisir,Sport
END:VEVENT
BEGIN:VTIMEZONE
TZID:America/Guadeloupe
X-LIC-LOCATION:America/Guadeloupe
BEGIN:STANDARD
DTSTART:20230915T083000
TZOFFSETFROM:-0400
TZOFFSETTO:-0400
TZNAME:AST
END:STANDARD
END:VTIMEZONE
END:VCALENDAR